BEGIN:VCALENDAR
VERSION:2.0
PRODID:-//Contractor Academy - ECPv6.13.1//NONSGML v1.0//EN
CALSCALE:GREGORIAN
METHOD:PUBLISH
X-WR-CALNAME:Contractor Academy
X-ORIGINAL-URL:https://coloradocontractoracademy.org
X-WR-CALDESC:Events for Contractor Academy
REFRESH-INTERVAL;VALUE=DURATION:PT1H
X-Robots-Tag:noindex
X-PUBLISHED-TTL:PT1H
BEGIN:VTIMEZONE
TZID:UTC
BEGIN:STANDARD
TZOFFSETFROM:+0000
TZOFFSETTO:+0000
TZNAME:UTC
DTSTART:20210101T000000
END:STANDARD
END:VTIMEZONE
BEGIN:VEVENT
DTSTART;TZID=UTC:20210413T173000
DTEND;TZID=UTC:20210413T190000
DTSTAMP:20260421T060409
CREATED:20210406T040702Z
LAST-MODIFIED:20210407T232220Z
UID:913-1618335000-1618340400@coloradocontractoracademy.org
SUMMARY:Change Management with Tanya Davis: A Scaling Presentation
DESCRIPTION:This workshop will cover: \n\nUnderstanding conflict and how your conflict style plays into the larger picture\nChange management—a basic overview of what it is and what it means for small businesses post COVID-19\nBasic tools to use in facilitating changes in small business\n\nPresented By: \nTanya Davis | Chief Transformation Officer\, Davis Discovery Enterprises \nTanya Davis is an advocate for small businesses and a servant leader who has worked in the government for over 10 years. She has worked in the private sector as an auditor helping fortune 500 companies\, which include industries such as oil and gas\, asset management\, and health insurance\, to streamline processes and implement change at all levels of the company. Tanya’s passion is motivating people to implement change in systems\, processes\, and self. Under her leadership at Denver Human Services\, she led a team from being a distressed assistance program to being a model program where other counties came to train. During her time at the Colorado Department of Transportation\, the program she helped streamline was recognized nationally for its process improvements. \nTanya loves serving her community and helping small businesses to plan strategically by reviewing processes and implementing change.
URL:https://coloradocontractoracademy.org/event/change-management-with-tayna-davis-a-scaling-presentation/
LOCATION:Online
CATEGORIES:Courses
ATTACH;FMTTYPE=image/jpeg:https://coloradocontractoracademy.org/wp-content/uploads/tanya-davis-min-scaled.jpg
END:VEVENT
END:VCALENDAR