BEGIN:VCALENDAR
VERSION:2.0
PRODID:-//Contractor Academy - ECPv6.13.1//NONSGML v1.0//EN
CALSCALE:GREGORIAN
METHOD:PUBLISH
X-WR-CALNAME:Contractor Academy
X-ORIGINAL-URL:https://coloradocontractoracademy.org
X-WR-CALDESC:Events for Contractor Academy
REFRESH-INTERVAL;VALUE=DURATION:PT1H
X-Robots-Tag:noindex
X-PUBLISHED-TTL:PT1H
BEGIN:VTIMEZONE
TZID:UTC
BEGIN:STANDARD
TZOFFSETFROM:+0000
TZOFFSETTO:+0000
TZNAME:UTC
DTSTART:20210101T000000
END:STANDARD
END:VTIMEZONE
BEGIN:VEVENT
DTSTART;TZID=UTC:20210126T170000
DTEND;TZID=UTC:20210126T190000
DTSTAMP:20260419T074430
CREATED:20210209T060043Z
LAST-MODIFIED:20210310T002857Z
UID:705-1611680400-1611687600@coloradocontractoracademy.org
SUMMARY:Construction 101
DESCRIPTION:Location: Online \nDescription\nAre you new to the construction industry? Participants of this course will learn basic construction knowledge\, jargon\, and other professional necessities. The facilitator will explain the life cycle of a construction project\, various roles of businesses within the industry\, and give “construction vocabulary” lessons throughout the session. \nLearning Objectives\n\nDiscover how the construction industry works together to create multi-million dollar projects for the community.\nLearn “construction vocabulary” and acronyms common in the industry.\nGain foundational knowledge of how a construction project operates from start to finish.\n\nCourse Facilitator(s)\nHillen Corporation and Saunders
URL:https://coloradocontractoracademy.org/event/construction-101/
LOCATION:Online
CATEGORIES:Courses
ATTACH;FMTTYPE=image/jpeg:https://coloradocontractoracademy.org/wp-content/uploads/course-constrcution-101.jpg
END:VEVENT
END:VCALENDAR