BEGIN:VCALENDAR
VERSION:2.0
PRODID:-//Contractor Academy - ECPv6.13.1//NONSGML v1.0//EN
CALSCALE:GREGORIAN
METHOD:PUBLISH
X-WR-CALNAME:Contractor Academy
X-ORIGINAL-URL:https://coloradocontractoracademy.org
X-WR-CALDESC:Events for Contractor Academy
REFRESH-INTERVAL;VALUE=DURATION:PT1H
X-Robots-Tag:noindex
X-PUBLISHED-TTL:PT1H
BEGIN:VTIMEZONE
TZID:UTC
BEGIN:STANDARD
TZOFFSETFROM:+0000
TZOFFSETTO:+0000
TZNAME:UTC
DTSTART:20210101T000000
END:STANDARD
END:VTIMEZONE
BEGIN:VEVENT
DTSTART;TZID=UTC:20210223T170000
DTEND;TZID=UTC:20210223T190000
DTSTAMP:20260421T030408
CREATED:20210211T002506Z
LAST-MODIFIED:20210211T035827Z
UID:711-1614099600-1614106800@coloradocontractoracademy.org
SUMMARY:Contract Review
DESCRIPTION:Online Course \nDescription\nThis class will highlight and review some of the more significant contract provisions subcontractors may encounter on a project. The discussion will focus on the AIA General Conditions form but will also include other subcontract issues specific to construction in Colorado. \nLearning Objectives\n\nBecome familiar with AIA General Conditions form.\nGain an understanding of the interpretation and application of various contract provisions.\n\nCourse Facilitators\nThe Ray Law Firm LLC
URL:https://coloradocontractoracademy.org/event/contract-review/
LOCATION:Online
CATEGORIES:Courses
ATTACH;FMTTYPE=image/jpeg:https://coloradocontractoracademy.org/wp-content/uploads/courses-contract-review-feb.jpg
END:VEVENT
END:VCALENDAR