BEGIN:VCALENDAR
VERSION:2.0
PRODID:-//Contractor Academy - ECPv6.13.1//NONSGML v1.0//EN
CALSCALE:GREGORIAN
METHOD:PUBLISH
X-WR-CALNAME:Contractor Academy
X-ORIGINAL-URL:https://coloradocontractoracademy.org
X-WR-CALDESC:Events for Contractor Academy
REFRESH-INTERVAL;VALUE=DURATION:PT1H
X-Robots-Tag:noindex
X-PUBLISHED-TTL:PT1H
BEGIN:VTIMEZONE
TZID:America/Denver
BEGIN:DAYLIGHT
TZOFFSETFROM:-0700
TZOFFSETTO:-0600
TZNAME:MDT
DTSTART:20210314T090000
END:DAYLIGHT
BEGIN:STANDARD
TZOFFSETFROM:-0600
TZOFFSETTO:-0700
TZNAME:MST
DTSTART:20211107T080000
END:STANDARD
END:VTIMEZONE
BEGIN:VEVENT
DTSTART;TZID=America/Denver:20210824T170000
DTEND;TZID=America/Denver:20210824T190000
DTSTAMP:20260421T141619
CREATED:20210728T183456Z
LAST-MODIFIED:20210802T163036Z
UID:1339-1629824400-1629831600@coloradocontractoracademy.org
SUMMARY:Are You Ready for Design-Build?
DESCRIPTION:Design-build is the fastest growing method used to deliver construction projects in America. Join our expert presenters for an engaging and interactive discussion about the design-build process and key considerations if you are exploring design-build opportunities. Learn about the design-build process\, risks and benefits\, expectations and best practices. 								\n				\n				\n						\n					\n			\n						\n				\n							\n					\n				\n				\n			\n							\n				\n									\n						Jake Gilmore					\n				\n									\n						Founder\, President & CEO\, Gilmore ConstructionFor more than 40 years\, Jacob “Jake” Gilmore Jr. has been building leadership and community within the construction industry.  Jake has dedicated himself to the Denver Metro area’s construction needs at a very personal level.  Jake largely grew up in Park Hill\, graduated from George Washington High School and received a Sacks Foundation scholarship to the University of Colorado at Boulder\, where he earned a degree in Architectural Engineering. He began his construction career under the direction of widely respected\, local minority-owned construction firm\, and eventually worked his way up to Operations Manager. In 1997\, he started Gilmore Construction Corporation with his wife Edweena. Today\, he has successfully built a solid reputation of excellence and consistency. Jake is a firm believer in empowering the professional success of Gilmore’s employees\, giving back to communities\, mentoring smaller minority-owned companies and educating youth about opportunities in the construction industry.					\n				\n							\n						\n						\n				\n					\n		\n				\n			\n						\n				\n							\n					\n				\n				\n			\n							\n				\n									\n						Corey Biddle					\n				\n									\n						Alternative Delivery Manager\, Kiewit
URL:https://coloradocontractoracademy.org/event/design-build/
LOCATION:Online
CATEGORIES:Courses
END:VEVENT
END:VCALENDAR