BEGIN:VCALENDAR
VERSION:2.0
PRODID:-//Contractor Academy - ECPv6.13.1//NONSGML v1.0//EN
CALSCALE:GREGORIAN
METHOD:PUBLISH
X-WR-CALNAME:Contractor Academy
X-ORIGINAL-URL:https://coloradocontractoracademy.org
X-WR-CALDESC:Events for Contractor Academy
REFRESH-INTERVAL;VALUE=DURATION:PT1H
X-Robots-Tag:noindex
X-PUBLISHED-TTL:PT1H
BEGIN:VTIMEZONE
TZID:UTC
BEGIN:STANDARD
TZOFFSETFROM:+0000
TZOFFSETTO:+0000
TZNAME:UTC
DTSTART:20210101T000000
END:STANDARD
END:VTIMEZONE
BEGIN:VEVENT
DTSTART;TZID=UTC:20210320T080000
DTEND;TZID=UTC:20210320T120000
DTSTAMP:20260421T042854
CREATED:20210211T022836Z
LAST-MODIFIED:20210303T073749Z
UID:724-1616227200-1616241600@coloradocontractoracademy.org
SUMMARY:Estimating Bootcamp
DESCRIPTION:Online Course \nDescription\nSign up for Contractor Academy’s Estimating Bootcamp and learn the latest estimating and preconstruction techniques being used in the industry today! Our bootcamps are taught by experienced estimators and preconstruction managers and provide a unique opportunity to connect with peers\, as well as ask questions and learn from some of the leading contractors in the Denver area. \nLearning Objectives\n\nPursuit – Identify and capture the Project\nConceptual and Schematic DD – Design Development\, Construction Document phase\nIdentify opportunities\nEstimating and Budget Control\nValue Engineering\nSchedule\, Logistics and Constructability Reviews\nGo/No-Go Decision\nConcept / SD: Price the White\nIdentify Scope!! – have something for everything\nHigh level pricing\nHistorical costs – Unit costs\, Costs per SF\, Length x height x $/SF\, Provide a range\nComparable recent comparisons\nGC & Subcontractor Communication\nReceived you ITB (invitation to bid)\, Read the ITB thoroughly\nScope of work\nBid Schedule\nTaxes\, prevailing wages\, permit fees\, etc.\nContact the Estimator at the GC’s office\nIs this negotiated job or hard bid\nWho is your competition\nRisk and Risk Management\nWriting an Appropriate RFI\nEstimating – Subcontractor Perspective\nComplexity of the Project\nBasic Components of a Bid\nDetermine each Employee’s Fringe\nContract execution\n\nCourse Facilitators\nSwinerton
URL:https://coloradocontractoracademy.org/event/estimating-bootcamp/
LOCATION:Online
CATEGORIES:Courses
ATTACH;FMTTYPE=image/jpeg:https://coloradocontractoracademy.org/wp-content/uploads/events-estimating-bootcamp.jpg
END:VEVENT
END:VCALENDAR