BEGIN:VCALENDAR
VERSION:2.0
PRODID:-//Contractor Academy - ECPv6.13.1//NONSGML v1.0//EN
CALSCALE:GREGORIAN
METHOD:PUBLISH
X-WR-CALNAME:Contractor Academy
X-ORIGINAL-URL:https://coloradocontractoracademy.org
X-WR-CALDESC:Events for Contractor Academy
REFRESH-INTERVAL;VALUE=DURATION:PT1H
X-Robots-Tag:noindex
X-PUBLISHED-TTL:PT1H
BEGIN:VTIMEZONE
TZID:America/Denver
BEGIN:DAYLIGHT
TZOFFSETFROM:-0700
TZOFFSETTO:-0600
TZNAME:MDT
DTSTART:20240310T090000
END:DAYLIGHT
BEGIN:STANDARD
TZOFFSETFROM:-0600
TZOFFSETTO:-0700
TZNAME:MST
DTSTART:20241103T080000
END:STANDARD
END:VTIMEZONE
BEGIN:VEVENT
DTSTART;TZID=America/Denver:20240208T150000
DTEND;TZID=America/Denver:20240208T190000
DTSTAMP:20260423T065411
CREATED:20240116T195115Z
LAST-MODIFIED:20240116T202153Z
UID:291955-1707404400-1707418800@coloradocontractoracademy.org
SUMMARY:Permitting and Licensing in Northern Colorado
DESCRIPTION:REGISTER NOW\n					\n					\n				\n								\n				\n				\n				\n									This course is designed for management employees interested in learning ways to strategically manage project costs. This engaging and supportive learning experience is guided by the knowledge and experiences of you and your fellow participants. By the end of this 4-hour training\, you will be able to: Describe roles and responsibilities of all participants\,Examine knowledge and intent\,Examine Colorado state law pertaining to Licensing and Permitting\,Examine Customer Service issues.This is one of a series of courses presented through a Colorado Skill Advance Grant submitted by the NoCo Construction Partnership\, City of Fort Collins and City of Loveland. All courses will be taught by an experienced instructor through Live Remote – so you can attend in the comfort of your home or office. 								\n				\n				\n				\n							\n					\n				\n				\n			\n							\n				\n									\n						Shar Manno					\n				\n									\n						Administrative Services Manager for Community Development and Neighborhood Services\, City of Fort CollinsShar Manno is an Administrative Services Manager for Community Development and Neighborhood Services with the City of Fort Collins. With over 28 years of experience in the construction industry\, Shar has a wealth of knowledge in navigating the licensing and permitting process with the City of Fort Collins. Her experience comes from working with a small local home builder\, running a family-owned construction business\, and working various positions with a large Engineering firm\, in the field and main office.
URL:https://coloradocontractoracademy.org/event/permitting-and-licensing-in-northern-colorado/
LOCATION:Online
CATEGORIES:Courses
END:VEVENT
END:VCALENDAR