BEGIN:VCALENDAR
VERSION:2.0
PRODID:-//Contractor Academy - ECPv6.13.1//NONSGML v1.0//EN
CALSCALE:GREGORIAN
METHOD:PUBLISH
X-WR-CALNAME:Contractor Academy
X-ORIGINAL-URL:https://coloradocontractoracademy.org
X-WR-CALDESC:Events for Contractor Academy
REFRESH-INTERVAL;VALUE=DURATION:PT1H
X-Robots-Tag:noindex
X-PUBLISHED-TTL:PT1H
BEGIN:VTIMEZONE
TZID:America/Denver
BEGIN:DAYLIGHT
TZOFFSETFROM:-0700
TZOFFSETTO:-0600
TZNAME:MDT
DTSTART:20240310T090000
END:DAYLIGHT
BEGIN:STANDARD
TZOFFSETFROM:-0600
TZOFFSETTO:-0700
TZNAME:MST
DTSTART:20241103T080000
END:STANDARD
END:VTIMEZONE
BEGIN:VEVENT
DTSTART;TZID=America/Denver:20240217T090000
DTEND;TZID=America/Denver:20240217T170000
DTSTAMP:20260423T053337
CREATED:20240129T194915Z
LAST-MODIFIED:20240129T195127Z
UID:292022-1708160400-1708189200@coloradocontractoracademy.org
SUMMARY:Recursos Humanos: Temas Legales (ESPAÑOL)
DESCRIPTION:Este curso se impartirá en español. Está diseñado para empleados que están iniciando sus carreras en la gestión y para aquellos que están considerando hacer la transición a responsabilidades gerenciales. Esta experiencia de interesante aprendizaje y de apoyo está guiada por el conocimiento y las experiencias de usted y sus compañeros participantes. Al finalizar este entrenamiento de 8 horas\, usted podrá: Ilustrar el arco de empleo que va desde encontrar a un empleado hasta la contratación y empleo.Resumir el papel de un manual del empleado en empresas de construcciónEsbozar las formas en que el salario vigente se relaciona con las empresas en la industria de la construcciónExplicar cómo diversas leyes y requisitos se relacionan con el empleo en la industria de la construcción.Este es uno de una serie de cursos presentados a través de una Subvención de Avance de Habilidades de Colorado presentada por la NoCo Construction Partnership\, la Ciudad de Fort Collins y la Ciudad de Loveland. Todas las clases serán impartidas en nuestro campus de Westminster por un instructor presencial y experimentado. Se proporcionarán refrigerios y almuerzo. 								\n				\n				\n				\n									\n					\n						\n									registrarse
URL:https://coloradocontractoracademy.org/event/recursos-humanos-temas-legales-espanol/
LOCATION:Front Range Community College\, 3645 W 112th Ave\, Westminster\, CO\, 80031\, United States
CATEGORIES:Courses
END:VEVENT
END:VCALENDAR