BEGIN:VCALENDAR
VERSION:2.0
PRODID:-//Contractor Academy - ECPv6.13.1//NONSGML v1.0//EN
CALSCALE:GREGORIAN
METHOD:PUBLISH
X-WR-CALNAME:Contractor Academy
X-ORIGINAL-URL:https://coloradocontractoracademy.org
X-WR-CALDESC:Events for Contractor Academy
REFRESH-INTERVAL;VALUE=DURATION:PT1H
X-Robots-Tag:noindex
X-PUBLISHED-TTL:PT1H
BEGIN:VTIMEZONE
TZID:UTC
BEGIN:STANDARD
TZOFFSETFROM:+0000
TZOFFSETTO:+0000
TZNAME:UTC
DTSTART:20210101T000000
END:STANDARD
END:VTIMEZONE
BEGIN:VEVENT
DTSTART;TZID=UTC:20210504T170000
DTEND;TZID=UTC:20210504T190000
DTSTAMP:20260421T092315
CREATED:20210412T225055Z
LAST-MODIFIED:20210412T225055Z
UID:920-1620147600-1620154800@coloradocontractoracademy.org
SUMMARY:TalenTrust (Recruiting & Retention)
DESCRIPTION:The world will never go back to normal; we are forever changed. The year 2021 will set the stage for a new reality. It will be a year defined by resilience and reinvention. For organizations\, this is a mandate to either put on your work boots for the steep climb or die. Equip yourself with expert advice to make sure you are prepared and able to build the right foundation for business success. Join us to explore the new way we work\, and you will be ready to conquer whatever 2021 has to throw at you! \nLearning objectives: \n\nHow to cope with the business impact of the new way we work\nPeople continuity = business continuity\nTop 10 reasons your people leave YOU and how to make repairs\nRecruitment is a sales process\n\nPresented by: \nKathleen Quinn Votaw | Founder and CEO\, TalenTrust \nKathleen Quinn Votaw is the founder and CEO of TalenTrust\, a strategic recruiting and human capital consulting firm that has helped companies nationwide address immediate needs and drive long-term growth since 2003. She is the author of “Solve the People Puzzle” and a regularly-published columnist and popular speaker on topics related to HR strategies and workplace culture. Along her journey\, she has formed the core belief that people-centric\, relationship-based workplaces are the key to attracting and retaining the talent to take businesses to the next level.
URL:https://coloradocontractoracademy.org/event/talentrust-recruiting-retention/
LOCATION:Online
CATEGORIES:Courses
ATTACH;FMTTYPE=image/png:https://coloradocontractoracademy.org/wp-content/uploads/Kathleen-Quinn-Votaw.png
END:VEVENT
END:VCALENDAR